BEGIN:VCALENDAR
VERSION:2.0
PRODID:-//Dennys River Historical Society - ECPv6.15.20//NONSGML v1.0//EN
CALSCALE:GREGORIAN
METHOD:PUBLISH
X-WR-CALNAME:Dennys River Historical Society
X-ORIGINAL-URL:https://dennysriverhistory.org
X-WR-CALDESC:Events for Dennys River Historical Society
REFRESH-INTERVAL;VALUE=DURATION:PT1H
X-Robots-Tag:noindex
X-PUBLISHED-TTL:PT1H
BEGIN:VTIMEZONE
TZID:UTC
BEGIN:STANDARD
TZOFFSETFROM:+0000
TZOFFSETTO:+0000
TZNAME:UTC
DTSTART:20220101T000000
END:STANDARD
END:VTIMEZONE
BEGIN:VEVENT
DTSTART;TZID=UTC:20231024T190000
DTEND;TZID=UTC:20231024T200000
DTSTAMP:20260426T020949
CREATED:20231016T183519Z
LAST-MODIFIED:20231016T183940Z
UID:1435-1698174000-1698177600@dennysriverhistory.org
SUMMARY:Hearing a Pembroke Treasure
DESCRIPTION:Join us for a Concert of New England Fiddle Tunes and Civil War Songs performed by Kris Paprocki on the restored 1903 Leighton Violin\,\nwith a brief illustrated biography of the life and work of Captain William E. Leighton\, 1840-1925:\nInventor\, Civil War veteran\, organ manufacturer\, violin maker\, sardine factory owner\, Justice of the Peace\,\nIn a joint presentation of the Pembroke Historical Society and the Dennys River Historical Society.
URL:https://dennysriverhistory.org/event/hearing-a-pembroke-treasure/
LOCATION:Lincoln Memorial Public Library\, 17 King Street\, Dennysville\, ME\, 04628\, United States
ORGANIZER;CN="Dennys River Historical Society":MAILTO:drhs.museum@gmail.com
END:VEVENT
BEGIN:VEVENT
DTSTART;TZID=UTC:20230926T190000
DTEND;TZID=UTC:20230926T200000
DTSTAMP:20260426T020949
CREATED:20230926T141726Z
LAST-MODIFIED:20230926T142651Z
UID:1424-1695754800-1695758400@dennysriverhistory.org
SUMMARY:John P. Sheahan's Experience of the Civil War\, 1862-1865
DESCRIPTION:Do you know this man? Join us for John P. Sheahan’s Experience of the Civil War\, 1862-1865\, at Dennysville’s Lincoln Memorial Library\, on Tuesday evening\, September 26\, at 7 p.m. Dr. James Oberly of Perry and the Dennys River Historical Society will present the story as seen through John Sheahan’s letters home to his family in Dennysville during the war. In 1862\, at age 21\, John Sheahan of Dennysville joined up to fight as a private in the 1st Maine Cavalry.  From his enlistment and training in Augusta\, his experience of battle\, to his capture at Petersburg\, imprisonment and escape\, you will hear the account in his own words.\n\nTo join us by Zoom\, please email the Dennys River Historical Society at drhs.museum@gmail.com at least 24 hours prior to this presentation. For more information visit the Historical Society’s website at www.dennysriverhistory.org\, or call 726-3905.\n\nDr. James Oberly is Professor Emeritus of History at the University of Wisconsin-Eau Claire\, and a summer resident of Perry\, Maine\, with his wife Louise\, whose family has roots in Dennysville.\n\nView event on Facebook
URL:https://dennysriverhistory.org/event/john-p-sheahans-experience-of-the-civil-war-1862-1865/
LOCATION:Lincoln Memorial Public Library\, 17 King Street\, Dennysville\, ME\, 04628\, United States
ATTACH;FMTTYPE=image/jpeg:https://dennysriverhistory.org/wp-content/uploads/2023/09/376243709_268323076020046_2481409364194901173_n.jpg
ORGANIZER;CN="Dennys River Historical Society":MAILTO:drhs.museum@gmail.com
END:VEVENT
BEGIN:VEVENT
DTSTART;TZID=UTC:20230608T100000
DTEND;TZID=UTC:20230608T110000
DTSTAMP:20260426T020949
CREATED:20230531T010349Z
LAST-MODIFIED:20230531T010349Z
UID:159-1686218400-1686222000@dennysriverhistory.org
SUMMARY:Community discussion
DESCRIPTION:
URL:https://dennysriverhistory.org/event/community-discussion/
LOCATION:Lincoln Memorial Public Library\, 17 King Street\, Dennysville\, ME\, 04628\, United States
ATTACH;FMTTYPE=image/png:https://dennysriverhistory.org/wp-content/uploads/2023/05/142368966_1772020396292192_7612234758425792792_n.png
END:VEVENT
END:VCALENDAR