BEGIN:VCALENDAR
VERSION:2.0
PRODID:-//Dennys River Historical Society - ECPv6.15.20//NONSGML v1.0//EN
CALSCALE:GREGORIAN
METHOD:PUBLISH
X-WR-CALNAME:Dennys River Historical Society
X-ORIGINAL-URL:https://dennysriverhistory.org
X-WR-CALDESC:Events for Dennys River Historical Society
REFRESH-INTERVAL;VALUE=DURATION:PT1H
X-Robots-Tag:noindex
X-PUBLISHED-TTL:PT1H
BEGIN:VTIMEZONE
TZID:UTC
BEGIN:STANDARD
TZOFFSETFROM:+0000
TZOFFSETTO:+0000
TZNAME:UTC
DTSTART:20250101T000000
END:STANDARD
END:VTIMEZONE
BEGIN:VEVENT
DTSTART;TZID=UTC:20260224T180000
DTEND;TZID=UTC:20260224T200000
DTSTAMP:20260425T154612
CREATED:20260214T203023Z
LAST-MODIFIED:20260224T153813Z
UID:1768-1771956000-1771963200@dennysriverhistory.org
SUMMARY:Annual Show & Tell Event\, Feb. 24\, 2026\, 6 PM
DESCRIPTION:The annual DRHS Show and Tell event has come around once more.  Hope to see you at what is always a fun meeting.  Learn the story of these cannonballs and more \n 
URL:https://dennysriverhistory.org/event/annual-show-tell-event-feb-24-2026-6-pm/
LOCATION:Lincoln House Woodshed\, 49 Main Street (Route 86)\, Dennysville\, Maine\, 04628
ORGANIZER;CN="Dennys River Historical Society":MAILTO:drhs.museum@gmail.com
END:VEVENT
END:VCALENDAR